BEGIN:VCALENDAR
VERSION:2.0
PRODID:-//zum-scheuen-reh.de - ECPv6.2.2//NONSGML v1.0//EN
CALSCALE:GREGORIAN
METHOD:PUBLISH
X-ORIGINAL-URL:https://zum-scheuen-reh.de
X-WR-CALDESC:Veranstaltungen für zum-scheuen-reh.de
REFRESH-INTERVAL;VALUE=DURATION:PT1H
X-Robots-Tag:noindex
X-PUBLISHED-TTL:PT1H
BEGIN:VTIMEZONE
TZID:UTC
BEGIN:STANDARD
TZOFFSETFROM:+0000
TZOFFSETTO:+0000
TZNAME:UTC
DTSTART:20200101T000000
END:STANDARD
END:VTIMEZONE
BEGIN:VEVENT
DTSTART;VALUE=DATE:20200801
DTEND;VALUE=DATE:20200802
DTSTAMP:20260422T141333
CREATED:20200714T185913Z
LAST-MODIFIED:20200714T185913Z
UID:3910-1596240000-1596326399@zum-scheuen-reh.de
SUMMARY:SAMSTAG -  Musik von Teurofunk
DESCRIPTION:Start ab 22 Uhr
URL:https://zum-scheuen-reh.de/events/freitag-listening-musik-von-steffen-damm-2/
END:VEVENT
BEGIN:VEVENT
DTSTART;VALUE=DATE:20200806
DTEND;VALUE=DATE:20200807
DTSTAMP:20260422T141333
CREATED:20200714T190439Z
LAST-MODIFIED:20200714T190439Z
UID:3922-1596672000-1596758399@zum-scheuen-reh.de
SUMMARY:DONNERSTAG - Gin & Tonic Tag im Reh
DESCRIPTION:Jeden Donnerstag ist Gin & Tonic Tag im Reh\, alle Gin Tonics kosten -2 € und Ihr könnt für 1€ verschiedene Gins testen
URL:https://zum-scheuen-reh.de/events/donnerstag-gin-tonic-tag-im-reh-8-4-2-2-2-3-2-2-2-3-2-4-2-2-2-2-2-4-2-2-3-3-2-3-2-2-4-2-2-2-2-2-2-2-2-2-2-2/
END:VEVENT
BEGIN:VEVENT
DTSTART;VALUE=DATE:20200807
DTEND;VALUE=DATE:20200808
DTSTAMP:20260422T141333
CREATED:20200714T190345Z
LAST-MODIFIED:20200714T190345Z
UID:3920-1596758400-1596844799@zum-scheuen-reh.de
SUMMARY:FREITAG - Musik von Kurve & Martini
DESCRIPTION:Start ab 22 Uhr
URL:https://zum-scheuen-reh.de/events/freitag-musik-von-burakete-3/
END:VEVENT
BEGIN:VEVENT
DTSTART;VALUE=DATE:20200808
DTEND;VALUE=DATE:20200809
DTSTAMP:20260422T141333
CREATED:20200630T175105Z
LAST-MODIFIED:20200714T185646Z
UID:3898-1596844800-1596931199@zum-scheuen-reh.de
SUMMARY:SAMSTAG -  Musik von Steffen Damm
DESCRIPTION:und Champions-League Achtelfinale FC Bayern vs. Chelsea um 21h
URL:https://zum-scheuen-reh.de/events/freitag-listening-musik-von-steffen-damm/
END:VEVENT
BEGIN:VEVENT
DTSTART;VALUE=DATE:20200812
DTEND;VALUE=DATE:20200813
DTSTAMP:20260422T141333
CREATED:20200810T120015Z
LAST-MODIFIED:20200810T120015Z
UID:3953-1597190400-1597276799@zum-scheuen-reh.de
SUMMARY:MITTWOCH - Atlanta Bergamo vs Paris St. Germain ab 21h
DESCRIPTION:
URL:https://zum-scheuen-reh.de/events/mittwoch-atlanta-bergamo-vs-paris-st-germain-ab-21h/
END:VEVENT
BEGIN:VEVENT
DTSTART;VALUE=DATE:20200813
DTEND;VALUE=DATE:20200814
DTSTAMP:20260422T141333
CREATED:20200714T190500Z
LAST-MODIFIED:20200810T115908Z
UID:3924-1597276800-1597363199@zum-scheuen-reh.de
SUMMARY:DONNERSTAG - Leipzig vs. Atletic Madrid ab 21h
DESCRIPTION:Jeden Donnerstag ist Gin & Tonic Tag im Reh\, alle Gin Tonics kosten -2 € und Ihr könnt für 1€ verschiedene Gins testen
URL:https://zum-scheuen-reh.de/events/donnerstag-gin-tonic-tag-im-reh-8-4-2-2-2-3-2-2-2-3-2-4-2-2-2-2-2-4-2-2-3-3-2-3-2-2-4-2-2-2-2-2-2-2-2-2-2-2-2/
END:VEVENT
BEGIN:VEVENT
DTSTART;VALUE=DATE:20200814
DTEND;VALUE=DATE:20200815
DTSTAMP:20260422T141333
CREATED:20200715T184212Z
LAST-MODIFIED:20200810T115706Z
UID:3936-1597363200-1597449599@zum-scheuen-reh.de
SUMMARY:FREITAG - Musik von Martini & Kurve + Barcelona vs. FC Bayern
DESCRIPTION:Barcelona vs. FC Bayern im Reh und auf der Terrasse\, Start 21h – keine Reservierungen bitte früh kommen!
URL:https://zum-scheuen-reh.de/events/freitag-musik-von-burakete-3-2/
END:VEVENT
BEGIN:VEVENT
DTSTART;VALUE=DATE:20200815
DTEND;VALUE=DATE:20200816
DTSTAMP:20260422T141333
CREATED:20200715T183634Z
LAST-MODIFIED:20200810T115814Z
UID:3934-1597449600-1597535999@zum-scheuen-reh.de
SUMMARY:SAMSTAG -  Musik von Stoff (Bummbock)
DESCRIPTION:Start ab 23 Uhr und Champions League: Man City vs. Lyon ab 21h
URL:https://zum-scheuen-reh.de/events/freitag-listening-musik-von-steffen-damm-3/
END:VEVENT
BEGIN:VEVENT
DTSTART;VALUE=DATE:20200818
DTEND;VALUE=DATE:20200819
DTSTAMP:20260422T141333
CREATED:20200817T120626Z
LAST-MODIFIED:20200817T120626Z
UID:3960-1597708800-1597795199@zum-scheuen-reh.de
SUMMARY:DIENSTAG - Champions-League Halbfinale Leipzig vs. Paris St Germain
DESCRIPTION:Anstoß um 21h
URL:https://zum-scheuen-reh.de/events/dienstag-champions-league-halbfinale-leipzig-vs-paris-st-germain/
END:VEVENT
BEGIN:VEVENT
DTSTART;VALUE=DATE:20200819
DTEND;VALUE=DATE:20200820
DTSTAMP:20260422T141333
CREATED:20200817T120707Z
LAST-MODIFIED:20200817T120707Z
UID:3962-1597795200-1597881599@zum-scheuen-reh.de
SUMMARY:MITTWOCH - Champions-League Halbfinale FC Bayern vs. O.Lyon
DESCRIPTION:Anstoß um 21h
URL:https://zum-scheuen-reh.de/events/dienstag-champions-league-halbfinale-leipzig-vs-paris-st-germain-2/
END:VEVENT
BEGIN:VEVENT
DTSTART;VALUE=DATE:20200820
DTEND;VALUE=DATE:20200821
DTSTAMP:20260422T141333
CREATED:20200714T190520Z
LAST-MODIFIED:20200714T190520Z
UID:3926-1597881600-1597967999@zum-scheuen-reh.de
SUMMARY:DONNERSTAG - Gin & Tonic Tag im Reh
DESCRIPTION:Jeden Donnerstag ist Gin & Tonic Tag im Reh\, alle Gin Tonics kosten -2 € und Ihr könnt für 1€ verschiedene Gins testen
URL:https://zum-scheuen-reh.de/events/donnerstag-gin-tonic-tag-im-reh-8-4-2-2-2-3-2-2-2-3-2-4-2-2-2-2-2-4-2-2-3-3-2-3-2-2-4-2-2-2-2-2-2-2-2-2-2-2-2-2/
END:VEVENT
BEGIN:VEVENT
DTSTART;VALUE=DATE:20200821
DTEND;VALUE=DATE:20200822
DTSTAMP:20260422T141333
CREATED:20200716T115610Z
LAST-MODIFIED:20200716T115610Z
UID:3941-1597968000-1598054399@zum-scheuen-reh.de
SUMMARY:FREITAG - Musik von Philipp Verfürth (Neotopia)
DESCRIPTION:Start ab 22 Uhr
URL:https://zum-scheuen-reh.de/events/freitag-musik-von-burakete-3-2-2/
END:VEVENT
BEGIN:VEVENT
DTSTART;VALUE=DATE:20200822
DTEND;VALUE=DATE:20200823
DTSTAMP:20260422T141333
CREATED:20200716T115426Z
LAST-MODIFIED:20200716T115426Z
UID:3939-1598054400-1598140799@zum-scheuen-reh.de
SUMMARY:SAMSTAG -  Musik von Leon Hagen
DESCRIPTION:Start ab 22 Uhr
URL:https://zum-scheuen-reh.de/events/freitag-listening-musik-von-steffen-damm-3-2/
END:VEVENT
BEGIN:VEVENT
DTSTART;VALUE=DATE:20200823
DTEND;VALUE=DATE:20200824
DTSTAMP:20260422T141333
CREATED:20200817T120825Z
LAST-MODIFIED:20200817T120825Z
UID:3964-1598140800-1598227199@zum-scheuen-reh.de
SUMMARY:SONNTAG - Champions-League Finale
DESCRIPTION:Anstoß um 21h\, wir reservieren bis max. 19.30h\, email an: mail@zum-scheuen-reh.de
URL:https://zum-scheuen-reh.de/events/dienstag-champions-league-halbfinale-leipzig-vs-paris-st-germain-2-2/
END:VEVENT
BEGIN:VEVENT
DTSTART;VALUE=DATE:20200827
DTEND;VALUE=DATE:20200828
DTSTAMP:20260422T141333
CREATED:20200714T190539Z
LAST-MODIFIED:20200714T190539Z
UID:3928-1598486400-1598572799@zum-scheuen-reh.de
SUMMARY:DONNERSTAG - Gin & Tonic Tag im Reh
DESCRIPTION:Jeden Donnerstag ist Gin & Tonic Tag im Reh\, alle Gin Tonics kosten -2 € und Ihr könnt für 1€ verschiedene Gins testen
URL:https://zum-scheuen-reh.de/events/donnerstag-gin-tonic-tag-im-reh-8-4-2-2-2-3-2-2-2-3-2-4-2-2-2-2-2-4-2-2-3-3-2-3-2-2-4-2-2-2-2-2-2-2-2-2-2-2-2-2-2/
END:VEVENT
BEGIN:VEVENT
DTSTART;VALUE=DATE:20200828
DTEND;VALUE=DATE:20200829
DTSTAMP:20260422T141333
CREATED:20200821T084929Z
LAST-MODIFIED:20200821T084929Z
UID:3966-1598572800-1598659199@zum-scheuen-reh.de
SUMMARY:FREITAG - Musik von Korkut Elbay (Cómeme)
DESCRIPTION:Start ab 22 Uhr
URL:https://zum-scheuen-reh.de/events/freitag-musik-von-burakete-3-2-2-2/
END:VEVENT
END:VCALENDAR