BEGIN:VCALENDAR
VERSION:2.0
PRODID:-//zum-scheuen-reh.de - ECPv6.2.2//NONSGML v1.0//EN
CALSCALE:GREGORIAN
METHOD:PUBLISH
X-WR-CALNAME:zum-scheuen-reh.de
X-ORIGINAL-URL:https://zum-scheuen-reh.de
X-WR-CALDESC:Veranstaltungen für zum-scheuen-reh.de
REFRESH-INTERVAL;VALUE=DURATION:PT1H
X-Robots-Tag:noindex
X-PUBLISHED-TTL:PT1H
BEGIN:VTIMEZONE
TZID:UTC
BEGIN:STANDARD
TZOFFSETFROM:+0000
TZOFFSETTO:+0000
TZNAME:UTC
DTSTART:20200101T000000
END:STANDARD
END:VTIMEZONE
BEGIN:VEVENT
DTSTART;VALUE=DATE:20200514
DTEND;VALUE=DATE:20200515
DTSTAMP:20260422T095038
CREATED:20200107T121334Z
LAST-MODIFIED:20200514T074129Z
UID:3710-1589414400-1589500799@zum-scheuen-reh.de
SUMMARY:DONNERSTAG - Gin & Tonic Tag im Reh
DESCRIPTION:Jeden Donnerstag ist Gin & Tonic Tag im Reh\, alle Gin Tonics kosten -2 € und Ihr könnt für 1€ verschiedene Gins testen
URL:https://zum-scheuen-reh.de/events/donnerstag-gin-tonic-tag-im-reh-8-4-2-2-2-3-2-2-2-3-2-4-2-2-2-2-2-4-2-2-3-3-2-3-2-2/
END:VEVENT
BEGIN:VEVENT
DTSTART;VALUE=DATE:20200516
DTEND;VALUE=DATE:20200517
DTSTAMP:20260422T095038
CREATED:20200514T075345Z
LAST-MODIFIED:20200514T075345Z
UID:3855-1589587200-1589673599@zum-scheuen-reh.de
SUMMARY:SAMSTAG - Bundesliga BVB vs Schalke 04 Das Derby
DESCRIPTION:Anpfiff 15.30h. leider keine Reservierungen möglich\, bitte frühzeitig erscheinen.
URL:https://zum-scheuen-reh.de/events/samstag-bundesliga-bvb-vs-schalke-04-das-derby/
END:VEVENT
BEGIN:VEVENT
DTSTART;VALUE=DATE:20200517
DTEND;VALUE=DATE:20200518
DTSTAMP:20260422T095038
CREATED:20200514T075747Z
LAST-MODIFIED:20200514T075747Z
UID:3864-1589673600-1589759999@zum-scheuen-reh.de
SUMMARY:SONNTAG - Die Bundesliga Sonntagspiele |  1.FC Köln vs Mainz 05
DESCRIPTION:Anpfiff 15.30h. leider keine Reservierungen möglich\, bitte frühzeitig erscheinen.
URL:https://zum-scheuen-reh.de/events/sonntag-die-bundesliga-sonntagspiele-1-fc-koeln-vs-mainz-05-2-2/
END:VEVENT
BEGIN:VEVENT
DTSTART;VALUE=DATE:20200521
DTEND;VALUE=DATE:20200522
DTSTAMP:20260422T095038
CREATED:20200514T074148Z
LAST-MODIFIED:20200514T074148Z
UID:3829-1590019200-1590105599@zum-scheuen-reh.de
SUMMARY:DONNERSTAG - Gin & Tonic Tag im Reh
DESCRIPTION:Jeden Donnerstag ist Gin & Tonic Tag im Reh\, alle Gin Tonics kosten -2 € und Ihr könnt für 1€ verschiedene Gins testen
URL:https://zum-scheuen-reh.de/events/donnerstag-gin-tonic-tag-im-reh-8-4-2-2-2-3-2-2-2-3-2-4-2-2-2-2-2-4-2-2-3-3-2-3-2-2-4/
END:VEVENT
BEGIN:VEVENT
DTSTART;VALUE=DATE:20200523
DTEND;VALUE=DATE:20200524
DTSTAMP:20260422T095038
CREATED:20200514T075528Z
LAST-MODIFIED:20200518T124517Z
UID:3857-1590192000-1590278399@zum-scheuen-reh.de
SUMMARY:SAMSTAG - Bundesliga am Samstag\, BVB vs. Wolfsburg um 15.30h
DESCRIPTION:und um 18.30h Bayern vs. Frankfurt – bitte frühzeitig erscheinen.
URL:https://zum-scheuen-reh.de/events/samstag-bundesliga-bvb-vs-schalke-04-das-derby-2/
END:VEVENT
BEGIN:VEVENT
DTSTART;VALUE=DATE:20200524
DTEND;VALUE=DATE:20200525
DTSTAMP:20260422T095038
CREATED:20200514T075235Z
LAST-MODIFIED:20200518T124341Z
UID:3853-1590278400-1590364799@zum-scheuen-reh.de
SUMMARY:SONNTAG - Die Bundesliga Sonntagspiele\, 1.FC Köln vs Düsseldorf um 18.00h
DESCRIPTION:Anpfiff 15.30h. bitte frühzeitig erscheinen.
URL:https://zum-scheuen-reh.de/events/sonntag-die-bundesliga-sonntagspiele-1-fc-koeln-vs-mainz-05/
END:VEVENT
BEGIN:VEVENT
DTSTART;VALUE=DATE:20200526
DTEND;VALUE=DATE:20200527
DTSTAMP:20260422T095038
CREATED:20200518T124711Z
LAST-MODIFIED:20200518T124711Z
UID:3872-1590451200-1590537599@zum-scheuen-reh.de
SUMMARY:DIENSTAG - BVB vs. FC Bayern 18.30h
DESCRIPTION:
URL:https://zum-scheuen-reh.de/events/dienstag-bvb-vs-fc-bayern-18-30h/
END:VEVENT
BEGIN:VEVENT
DTSTART;VALUE=DATE:20200527
DTEND;VALUE=DATE:20200528
DTSTAMP:20260422T095038
CREATED:20200518T124815Z
LAST-MODIFIED:20200518T124815Z
UID:3874-1590537600-1590623999@zum-scheuen-reh.de
SUMMARY:MITTWOCH - 1.FC Köln vs. Hoffenheim 1899 um 20.30h
DESCRIPTION:
URL:https://zum-scheuen-reh.de/events/dienstag-bvb-vs-fc-bayern-18-30h-2/
END:VEVENT
BEGIN:VEVENT
DTSTART;VALUE=DATE:20200528
DTEND;VALUE=DATE:20200529
DTSTAMP:20260422T095038
CREATED:20200514T074206Z
LAST-MODIFIED:20200514T074206Z
UID:3831-1590624000-1590710399@zum-scheuen-reh.de
SUMMARY:DONNERSTAG - Gin & Tonic Tag im Reh
DESCRIPTION:Jeden Donnerstag ist Gin & Tonic Tag im Reh\, alle Gin Tonics kosten -2 € und Ihr könnt für 1€ verschiedene Gins testen
URL:https://zum-scheuen-reh.de/events/donnerstag-gin-tonic-tag-im-reh-8-4-2-2-2-3-2-2-2-3-2-4-2-2-2-2-2-4-2-2-3-3-2-3-2-2-4-2/
END:VEVENT
BEGIN:VEVENT
DTSTART;VALUE=DATE:20200531
DTEND;VALUE=DATE:20200601
DTSTAMP:20260422T095038
CREATED:20200514T075636Z
LAST-MODIFIED:20200514T075636Z
UID:3862-1590883200-1590969599@zum-scheuen-reh.de
SUMMARY:SONNTAG - Die Bundesliga Sonntagspiele
DESCRIPTION:Anpfiff 15.30h. leider keine Reservierungen möglich\, bitte frühzeitig erscheinen.
URL:https://zum-scheuen-reh.de/events/sonntag-die-bundesliga-sonntagspiele-1-fc-koeln-vs-mainz-05-2/
END:VEVENT
END:VCALENDAR