BEGIN:VCALENDAR
VERSION:2.0
PRODID:-//zum-scheuen-reh.de - ECPv6.2.2//NONSGML v1.0//EN
CALSCALE:GREGORIAN
METHOD:PUBLISH
X-ORIGINAL-URL:https://zum-scheuen-reh.de
X-WR-CALDESC:Veranstaltungen für zum-scheuen-reh.de
REFRESH-INTERVAL;VALUE=DURATION:PT1H
X-Robots-Tag:noindex
X-PUBLISHED-TTL:PT1H
BEGIN:VTIMEZONE
TZID:UTC
BEGIN:STANDARD
TZOFFSETFROM:+0000
TZOFFSETTO:+0000
TZNAME:UTC
DTSTART:20200101T000000
END:STANDARD
END:VTIMEZONE
BEGIN:VEVENT
DTSTART;VALUE=DATE:20201016
DTEND;VALUE=DATE:20201017
DTSTAMP:20260422T203945
CREATED:20200922T074824Z
LAST-MODIFIED:20200922T114753Z
UID:4036-1602806400-1602892799@zum-scheuen-reh.de
SUMMARY:FREITAG - Discohouse w/ DR. PHUNKEZ
DESCRIPTION:Start ab 22 Uhr
URL:https://zum-scheuen-reh.de/events/freitag-listening-musik-von-steffen-damm-3-2-2-2-3-2-2/
END:VEVENT
END:VCALENDAR