BEGIN:VCALENDAR
VERSION:2.0
PRODID:-//zum-scheuen-reh.de - ECPv6.2.2//NONSGML v1.0//EN
CALSCALE:GREGORIAN
METHOD:PUBLISH
X-ORIGINAL-URL:https://zum-scheuen-reh.de
X-WR-CALDESC:Veranstaltungen für zum-scheuen-reh.de
REFRESH-INTERVAL;VALUE=DURATION:PT1H
X-Robots-Tag:noindex
X-PUBLISHED-TTL:PT1H
BEGIN:VTIMEZONE
TZID:UTC
BEGIN:STANDARD
TZOFFSETFROM:+0000
TZOFFSETTO:+0000
TZNAME:UTC
DTSTART:20200101T000000
END:STANDARD
END:VTIMEZONE
BEGIN:VEVENT
DTSTART;VALUE=DATE:20201009
DTEND;VALUE=DATE:20201010
DTSTAMP:20260422T204454
CREATED:20200922T074346Z
LAST-MODIFIED:20201005T115712Z
UID:4031-1602201600-1602287999@zum-scheuen-reh.de
SUMMARY:FREITAG - Musik von Jascha Yousefi (Kreislauf Records)
DESCRIPTION:Start ab 22 Uhr
URL:https://zum-scheuen-reh.de/events/freitag-musik-von-burakete-3-2-2-2-3-3-2/
END:VEVENT
END:VCALENDAR