BEGIN:VCALENDAR
VERSION:2.0
PRODID:-//zum-scheuen-reh.de - ECPv6.2.2//NONSGML v1.0//EN
CALSCALE:GREGORIAN
METHOD:PUBLISH
X-ORIGINAL-URL:https://zum-scheuen-reh.de
X-WR-CALDESC:Veranstaltungen für zum-scheuen-reh.de
REFRESH-INTERVAL;VALUE=DURATION:PT1H
X-Robots-Tag:noindex
X-PUBLISHED-TTL:PT1H
BEGIN:VTIMEZONE
TZID:UTC
BEGIN:STANDARD
TZOFFSETFROM:+0000
TZOFFSETTO:+0000
TZNAME:UTC
DTSTART:20200101T000000
END:STANDARD
END:VTIMEZONE
BEGIN:VEVENT
DTSTART;VALUE=DATE:20201004
DTEND;VALUE=DATE:20201005
DTSTAMP:20260422T203938
CREATED:20200908T102107Z
LAST-MODIFIED:20200908T102107Z
UID:4015-1601769600-1601855999@zum-scheuen-reh.de
SUMMARY:SONNTAG - Die Bundesliga Sonntags-Spiele
DESCRIPTION:ab 15.30h auch auf der Terrasse
URL:https://zum-scheuen-reh.de/events/sonntag-die-bundesliga-sonntags-spiele-2-2/
END:VEVENT
END:VCALENDAR