BEGIN:VCALENDAR
VERSION:2.0
PRODID:-//zum-scheuen-reh.de - ECPv6.2.2//NONSGML v1.0//EN
CALSCALE:GREGORIAN
METHOD:PUBLISH
X-ORIGINAL-URL:https://zum-scheuen-reh.de
X-WR-CALDESC:Veranstaltungen für zum-scheuen-reh.de
REFRESH-INTERVAL;VALUE=DURATION:PT1H
X-Robots-Tag:noindex
X-PUBLISHED-TTL:PT1H
BEGIN:VTIMEZONE
TZID:UTC
BEGIN:STANDARD
TZOFFSETFROM:+0000
TZOFFSETTO:+0000
TZNAME:UTC
DTSTART:20200101T000000
END:STANDARD
END:VTIMEZONE
BEGIN:VEVENT
DTSTART;VALUE=DATE:20201003
DTEND;VALUE=DATE:20201004
DTSTAMP:20260422T204052
CREATED:20200908T102451Z
LAST-MODIFIED:20200922T074449Z
UID:4019-1601683200-1601769599@zum-scheuen-reh.de
SUMMARY:SAMSTAG - Musik von Korkut Elbay
DESCRIPTION:Start ab 22 Uhr und ab 15.30h DERBY: 1.FC Köln vs Gladbach\, anschl. Schalke 04 vs. RB Leipzig
URL:https://zum-scheuen-reh.de/events/freitag-listening-musik-von-steffen-damm-3-2-2-2-3/
END:VEVENT
END:VCALENDAR