BEGIN:VCALENDAR
VERSION:2.0
PRODID:-//zum-scheuen-reh.de - ECPv6.2.2//NONSGML v1.0//EN
CALSCALE:GREGORIAN
METHOD:PUBLISH
X-ORIGINAL-URL:https://zum-scheuen-reh.de
X-WR-CALDESC:Veranstaltungen für zum-scheuen-reh.de
REFRESH-INTERVAL;VALUE=DURATION:PT1H
X-Robots-Tag:noindex
X-PUBLISHED-TTL:PT1H
BEGIN:VTIMEZONE
TZID:UTC
BEGIN:STANDARD
TZOFFSETFROM:+0000
TZOFFSETTO:+0000
TZNAME:UTC
DTSTART:20200101T000000
END:STANDARD
END:VTIMEZONE
BEGIN:VEVENT
DTSTART;VALUE=DATE:20201001
DTEND;VALUE=DATE:20201002
DTSTAMP:20260422T174829
CREATED:20200821T091053Z
LAST-MODIFIED:20200922T105248Z
UID:3982-1601510400-1601596799@zum-scheuen-reh.de
SUMMARY:DONNERSTAG - Platten & Pegel im Reh
DESCRIPTION:Nach Berlin ist nun Köln dran\, ergo das Reh. In dieser\, etwas anderen Gastschicht sorgt die Kyrö Destillery Company für hervorragenden finnischen Gin auf Roggenbasis. Unsere Empfehlung für’n Filler: Schweppes Tonic. DJ Ange sorgt für alles\, was auf die Ohren geht. Start um 17.30h
URL:https://zum-scheuen-reh.de/events/donnerstag-gin-tonic-tag-im-reh-8-4-2-2-2-3-2-2-2-3-2-4-2-2-2-2-2-4-2-2-3-3-2-3-2-2-4-2-2-2-2-2-2-2-2-2-2-2-2-2-2-2-3-2-2/
END:VEVENT
END:VCALENDAR