BEGIN:VCALENDAR
VERSION:2.0
PRODID:-//zum-scheuen-reh.de - ECPv6.2.2//NONSGML v1.0//EN
CALSCALE:GREGORIAN
METHOD:PUBLISH
X-WR-CALNAME:zum-scheuen-reh.de
X-ORIGINAL-URL:https://zum-scheuen-reh.de
X-WR-CALDESC:Veranstaltungen für zum-scheuen-reh.de
REFRESH-INTERVAL;VALUE=DURATION:PT1H
X-Robots-Tag:noindex
X-PUBLISHED-TTL:PT1H
BEGIN:VTIMEZONE
TZID:UTC
BEGIN:STANDARD
TZOFFSETFROM:+0000
TZOFFSETTO:+0000
TZNAME:UTC
DTSTART:20200101T000000
END:STANDARD
END:VTIMEZONE
BEGIN:VEVENT
DTSTART;VALUE=DATE:20200413
DTEND;VALUE=DATE:20200414
DTSTAMP:20260422T091932
CREATED:20200107T120547Z
LAST-MODIFIED:20200107T120547Z
UID:3698-1586736000-1586822399@zum-scheuen-reh.de
SUMMARY:MONTAG -  Reh Monday Live mit Tanya Barany
DESCRIPTION:Start ab 20.30h\, Eintritt frei! Federleicht und doch tonnenschwer. Verfremdet und doch intim. Sphärisch und doch unmittelbar. Verträumt und doch bestimmt. Keiner vermag es\, die magisch-mystische Welt der Walliser Berge in ein solches Universum dunkler Töne zu tauchen wie Tanya Barany\, die britisch-schweizerische Musikerin. Mit samtweicher Stimme\, kühnen Riffs und weiten Harmoniebögen malt die sie Klanglandschaften von grosser Schönheit. Line-Up Tanya Barany – Vocals\, E-Guit – Djamal Moumène – E-Guit – Jonas Ruppen – Keys\, Synth Bass – Pascal Widmer – Drums
URL:https://zum-scheuen-reh.de/events/montag-reh-monday-live-mit-luca-vasta-2-3-2-2-2-2-2-2-2-2-2-2-2-3-2-4-2-2-2-2/
END:VEVENT
END:VCALENDAR