BEGIN:VCALENDAR
VERSION:2.0
PRODID:-//zum-scheuen-reh.de - ECPv6.2.2//NONSGML v1.0//EN
CALSCALE:GREGORIAN
METHOD:PUBLISH
X-WR-CALNAME:zum-scheuen-reh.de
X-ORIGINAL-URL:https://zum-scheuen-reh.de
X-WR-CALDESC:Veranstaltungen für zum-scheuen-reh.de
REFRESH-INTERVAL;VALUE=DURATION:PT1H
X-Robots-Tag:noindex
X-PUBLISHED-TTL:PT1H
BEGIN:VTIMEZONE
TZID:UTC
BEGIN:STANDARD
TZOFFSETFROM:+0000
TZOFFSETTO:+0000
TZNAME:UTC
DTSTART:20200101T000000
END:STANDARD
END:VTIMEZONE
BEGIN:VEVENT
DTSTART;VALUE=DATE:20200327
DTEND;VALUE=DATE:20200328
DTSTAMP:20260420T113332
CREATED:20200107T120944Z
LAST-MODIFIED:20200107T120944Z
UID:3702-1585267200-1585353599@zum-scheuen-reh.de
SUMMARY:FREITAG - Minimood Cologne Nights #13 mit CARLO MARTINY & VOLTMAR
DESCRIPTION:Carlo Martiny & Voltmar get together in Cologne for an allnight session to share their passion in a warm and small-scale ambiance.
URL:https://zum-scheuen-reh.de/events/freitag-kreislauf-records-im-reh-3-2-2-5-2-3-4-2/
END:VEVENT
END:VCALENDAR