BEGIN:VCALENDAR
VERSION:2.0
PRODID:-//zum-scheuen-reh.de - ECPv6.2.2//NONSGML v1.0//EN
CALSCALE:GREGORIAN
METHOD:PUBLISH
X-WR-CALNAME:zum-scheuen-reh.de
X-ORIGINAL-URL:https://zum-scheuen-reh.de
X-WR-CALDESC:Veranstaltungen für zum-scheuen-reh.de
REFRESH-INTERVAL;VALUE=DURATION:PT1H
X-Robots-Tag:noindex
X-PUBLISHED-TTL:PT1H
BEGIN:VTIMEZONE
TZID:UTC
BEGIN:STANDARD
TZOFFSETFROM:+0000
TZOFFSETTO:+0000
TZNAME:UTC
DTSTART:20200101T000000
END:STANDARD
END:VTIMEZONE
BEGIN:VEVENT
DTSTART;VALUE=DATE:20200307
DTEND;VALUE=DATE:20200308
DTSTAMP:20260420T112435
CREATED:20200227T095740Z
LAST-MODIFIED:20200227T101227Z
UID:3779-1583539200-1583625599@zum-scheuen-reh.de
SUMMARY:SAMSTAG - Disco Sour mit Tillmann Cologner
DESCRIPTION:ab 15.30 Bundesliga Konferenz
URL:https://zum-scheuen-reh.de/events/freitag-kreislauf-records-im-reh-3-2-2-5-2-3-4-2-3-2-2/
END:VEVENT
END:VCALENDAR