BEGIN:VCALENDAR
VERSION:2.0
PRODID:-//zum-scheuen-reh.de - ECPv6.2.2//NONSGML v1.0//EN
CALSCALE:GREGORIAN
METHOD:PUBLISH
X-WR-CALNAME:zum-scheuen-reh.de
X-ORIGINAL-URL:https://zum-scheuen-reh.de
X-WR-CALDESC:Veranstaltungen für zum-scheuen-reh.de
REFRESH-INTERVAL;VALUE=DURATION:PT1H
X-Robots-Tag:noindex
X-PUBLISHED-TTL:PT1H
BEGIN:VTIMEZONE
TZID:UTC
BEGIN:STANDARD
TZOFFSETFROM:+0000
TZOFFSETTO:+0000
TZNAME:UTC
DTSTART:20200101T000000
END:STANDARD
END:VTIMEZONE
BEGIN:VEVENT
DTSTART;VALUE=DATE:20200302
DTEND;VALUE=DATE:20200303
DTSTAMP:20260420T100526
CREATED:20200110T090152Z
LAST-MODIFIED:20200110T090418Z
UID:3727-1583107200-1583193599@zum-scheuen-reh.de
SUMMARY:MONTAG -  Reh Monday Live mit High Society Ping Pong
DESCRIPTION:Intensiv & ausdrucksstark präsentiert sich die junge Bielefelder Band\, akustische Klarheit mit elektronischen Klangbildern & eigenen Texten paart. Mal federleicht\, verträumt\, frech & ironisch\, aufbäumend\, nah am Leben dran\, nicht nur an ihrem Umfeld\, vielmehr auch an ihrem eigenen. Feinster Akustik-Pop für Seele\, Herz & Hirn.
URL:https://zum-scheuen-reh.de/events/montag-reh-monday-live-mit-luca-vasta-2-3-2-2-2-2-2-2-2-2-2-2-2-3-2-3-2/
END:VEVENT
END:VCALENDAR